BEGIN:VCALENDAR
VERSION:2.0
BEGIN:VEVENT
SUMMARY:Reach out to ISU Pappajohn Center for Entrepreneurship about ISU Startup Factory
DESCRIPTION:Reach out to them for information about their program.\n\nDescription: 18-week incubator for high-tech research-driven startups helping innovators transition from 'tech-speak' to 'business-speak' with training, mentors, and commercialization planning.\n\n- Email: petehong@iastate.edu\n- Source: https://founder-nav.com/programs/rec6Y2rMF6XQI52M1\n\n---\nBrought to you by Founder Nav, helping entrepreneurs navigate the entrepreneurial ecosystem.
DTSTART:20260425T100025Z
DTEND:20260425T103025Z
END:VEVENT
END:VCALENDAR