BEGIN:VCALENDAR
VERSION:2.0
BEGIN:VEVENT
SUMMARY:Reach out to Catalyst Campus for Technology & Innovation about Catalyst Accelerator (Space & Defense)
DESCRIPTION:Reach out to them for information about their program.\n\nDescription: Semi-residential 3-month program for tech startups focused on aerospace, defense, cybersecurity, and national security in Colorado Springs. Includes Space Force and Air Force liaisons.\n\n- Phone: (719) 896-5087\n- Source: https://founder-nav.com/programs/rec6XoBu9PKyIFR59\n\n---\nBrought to you by Founder Nav, helping entrepreneurs navigate the entrepreneurial ecosystem.
DTSTART:20260425T100008Z
DTEND:20260425T103008Z
END:VEVENT
END:VCALENDAR