BEGIN:VCALENDAR
VERSION:2.0
BEGIN:VEVENT
SUMMARY:Reach out to Capital Innovators Accelerator about Venture Ready Missouri
DESCRIPTION:Reach out to them for information about their program.\n\nDescription: The two-part course is designed to improve Missouri-based entrepreneurs’ potential to attract venture capital and angel investment while providing them foundational knowledge of the process.\n\n- Source: https://founder-nav.com/programs/rec6TxqMsgGpRstcX\n\n---\nBrought to you by Founder Nav, helping entrepreneurs navigate the entrepreneurial ecosystem.
DTSTART:20260425T100024Z
DTEND:20260425T103024Z
END:VEVENT
END:VCALENDAR