BEGIN:VCALENDAR
VERSION:2.0
BEGIN:VEVENT
SUMMARY:Reach out to UCSF Innovation Ventures about Global Life Sciences/Healthcare Entrepreneurship Virtual Master Class
DESCRIPTION:Reach out to them for information about their program.\n\nDescription: I was unable to access the provided webpage, so I cannot capture a description of the program.\n\n- Email: innovation@ucsf.edu\n- Source: https://founder-nav.com/programs/rec6RUqOy8RwKZhm8\n\n---\nBrought to you by Founder Nav, helping entrepreneurs navigate the entrepreneurial ecosystem.
DTSTART:20260425T100033Z
DTEND:20260425T103033Z
END:VEVENT
END:VCALENDAR