BEGIN:VCALENDAR
VERSION:2.0
BEGIN:VEVENT
SUMMARY:Reach out to  MERGE North Liberty CoLab about 1 Million Cups Iowa City
DESCRIPTION:Reach out to them for information about their program.\n\nDescription: Free weekly gathering where entrepreneurs present their businesses in a 6-minute pitch and receive structured feedback from a community of peers, mentors, and supporters over coffee.\n\n- Email: merge@greateriowacity.com\n- Source: https://founder-nav.com/programs/rec6RIXz3QHegv2n1\n\n---\nBrought to you by Founder Nav, helping entrepreneurs navigate the entrepreneurial ecosystem.
DTSTART:20260425T100047Z
DTEND:20260425T103047Z
END:VEVENT
END:VCALENDAR