BEGIN:VCALENDAR
VERSION:2.0
BEGIN:VEVENT
SUMMARY:Reach out to Greater Akron Chamber about Small Business Event Series
DESCRIPTION:Reach out to them for information about their program.\n\nDescription: An event series specifically for small and mid-sized businesses leaders and owners consisting of in-person roundtables and networking events, virtual information sessions, and lunch-and-learn workshops that create opportunities to connect with fellow business owners and leaders, build their networks, and learn about resources to help them grow their business and address everyday challenges.\n\n- Email: sshields@greaterakronchamber.org\n- Source: https://founder-nav.com/programs/rec6KZGsd53W4G6Ru\n\n---\nBrought to you by Founder Nav, helping entrepreneurs navigate the entrepreneurial ecosystem.
DTSTART:20260425T100002Z
DTEND:20260425T103002Z
END:VEVENT
END:VCALENDAR