BEGIN:VCALENDAR
VERSION:2.0
BEGIN:VEVENT
SUMMARY:Reach out to Economic Development Collaborative (EDC) about Cultivate & Ignite Tech Program (CITP)
DESCRIPTION:Reach out to them for information about their program.\n\nDescription: No-cost advising program for tech startups in Ventura and Santa Barbara counties, focused on Life Science Technologies, Medical Devices, Biomedical, ICT, and Clean Technologies. Part of the Economic Development Collaborative's (EDC) suite of SBDC services, with additional support through the Accelerate CA Inclusive Innovation Hub.\n\n- Phone: (805) 409-9159\n- Email: info@edcollaborative.com\n- Source: https://founder-nav.com/programs/rec6JEJKsvdIb3HM0\n\n---\nBrought to you by Founder Nav, helping entrepreneurs navigate the entrepreneurial ecosystem.
DTSTART:20260425T100007Z
DTEND:20260425T103007Z
END:VEVENT
END:VCALENDAR