BEGIN:VCALENDAR
VERSION:2.0
BEGIN:VEVENT
SUMMARY:Reach out to Office of Innovation & Commercialization (UH) about Faculty Fellows Program
DESCRIPTION:Reach out to them for information about their program.\n\nDescription: Year-long program at UH OIC supporting faculty members in integrating entrepreneurship, innovation, and technology commercialization into their teaching and research. Fellows develop new curricula, engage with startups, and build bridges between academia and industry.\n\n- Phone: (808) 956-9024\n- Email: oic@hawaii.edu\n- Source: https://founder-nav.com/programs/rec6ARTjRHpvbbNDp\n\n---\nBrought to you by Founder Nav, helping entrepreneurs navigate the entrepreneurial ecosystem.
DTSTART:20260425T100010Z
DTEND:20260425T103010Z
END:VEVENT
END:VCALENDAR