BEGIN:VCALENDAR
VERSION:2.0
BEGIN:VEVENT
SUMMARY:Reach out to Pipeline Entrepreneurs about Pipeline Fellowship Program
DESCRIPTION:Reach out to them for information about their program.\n\nDescription: Year-long fellowship for full-time, high-growth Midwest founders featuring four 3-day modules on business models, financials, customer development, and growth, with national expert mentors and alumni network.\n\n- Phone: (913) 307-0004\n- Email: info@pipelineentrepreneurs.com\n- Source: https://founder-nav.com/programs/rec66azr8QaM5SjrS\n\n---\nBrought to you by Founder Nav, helping entrepreneurs navigate the entrepreneurial ecosystem.
DTSTART:20260425T100041Z
DTEND:20260425T103041Z
END:VEVENT
END:VCALENDAR