BEGIN:VCALENDAR
VERSION:2.0
BEGIN:VEVENT
SUMMARY:Reach out to Arizona Commerce Authority about ACA Venture Start
DESCRIPTION:Reach out to them for information about their program.\n\nDescription: A free 6-week hybrid accelerator program by the Arizona Commerce Authority and ASU Edson E+I helping early-stage entrepreneurs validate their idea, define their go-to-market strategy, and acquire early customers.\n\n- Source: https://founder-nav.com/programs/rec63oSnTwzJBqrYq\n\n---\nBrought to you by Founder Nav, helping entrepreneurs navigate the entrepreneurial ecosystem.
DTSTART:20260425T100027Z
DTEND:20260425T103027Z
END:VEVENT
END:VCALENDAR