BEGIN:VCALENDAR
VERSION:2.0
BEGIN:VEVENT
SUMMARY:Reach out to Baltimore Metropolitan Women's Business Center about One-on-One Mentorship Program
DESCRIPTION:Reach out to them for information about their program.\n\nDescription: A branded one-on-one mentorship program that pairs women entrepreneurs with experienced business mentors for personalized leadership and business growth support. Includes leadership support forums for peer learning. Part of the comprehensive suite of services offered by the Baltimore Metro WBC at Morgan State University to women business owners across the region.\n\n- Source: https://founder-nav.com/programs/rec60pVfQLGXhkwnT\n\n---\nBrought to you by Founder Nav, helping entrepreneurs navigate the entrepreneurial ecosystem.
DTSTART:20260425T100006Z
DTEND:20260425T103006Z
END:VEVENT
END:VCALENDAR