BEGIN:VCALENDAR
VERSION:2.0
BEGIN:VEVENT
SUMMARY:Reach out to California Asian Pacific Chamber of Commerce about Sacramento MBDA Business Center
DESCRIPTION:Reach out to them for information about their program.\n\nDescription: One-on-one consulting services for minority-owned businesses through the Minority Business Development Agency, helping with growth, contracts, and capital access.\n\n- Phone: (916) 446-7883\n- Email: info@calasiancc.org\n- Source: https://founder-nav.com/programs/rec5hLs07u9btqjBY\n\n---\nBrought to you by Founder Nav, helping entrepreneurs navigate the entrepreneurial ecosystem.
DTSTART:20260425T100045Z
DTEND:20260425T103045Z
END:VEVENT
END:VCALENDAR