BEGIN:VCALENDAR
VERSION:2.0
BEGIN:VEVENT
SUMMARY:Reach out to Hatch Blue – Aquaculture Accelerator & Innovation Hub about Hatch Blue Global Accelerator Program
DESCRIPTION:Reach out to them for information about their program.\n\nDescription: Globally competitive 6-month aquaculture and alternative seafood accelerator operated by Hatch Blue — the world's leading aquaculture-focused accelerator — based at NELHA's HOST Park in Kona, Hawaii. Accepted companies receive a $75,000 investment (uncapped SAFE note) and participate in an international program spanning Hawaii, Norway, Singapore, and Vietnam.\n\n- Email: hello@hatch.blue\n- Source: https://founder-nav.com/programs/rec5cPT3nmBlyQ2zA\n\n---\nBrought to you by Founder Nav, helping entrepreneurs navigate the entrepreneurial ecosystem.
DTSTART:20260425T100053Z
DTEND:20260425T103053Z
END:VEVENT
END:VCALENDAR