BEGIN:VCALENDAR
VERSION:2.0
BEGIN:VEVENT
SUMMARY:Reach out to Greater Des Moines Partnership about Scale DSM Business Accelerator
DESCRIPTION:Reach out to them for information about their program.\n\nDescription: 7-month business accelerator powered by Interise's StreetWise program, helping established businesses increase revenue, create jobs, and build leadership capacity.\n\n- Source: https://founder-nav.com/programs/rec5Ze66bjcoB5zjv\n\n---\nBrought to you by Founder Nav, helping entrepreneurs navigate the entrepreneurial ecosystem.
DTSTART:20260425T100028Z
DTEND:20260425T103028Z
END:VEVENT
END:VCALENDAR