BEGIN:VCALENDAR
VERSION:2.0
BEGIN:VEVENT
SUMMARY:Reach out to Venture Partners at CU Boulder about Ascent Deep Tech Accelerator
DESCRIPTION:Reach out to them for information about their program.\n\nDescription: Four-month accelerator for research teams building deep tech startups at CU Boulder, UCCS, and CU Denver. Milestones in company formation, market paths, entrepreneurial finance, and fundraising.\n\n- Email: vpcontact@colorado.edu\n- Source: https://founder-nav.com/programs/rec5YujNPxYtOsbvF\n\n---\nBrought to you by Founder Nav, helping entrepreneurs navigate the entrepreneurial ecosystem.
DTSTART:20260425T100011Z
DTEND:20260425T103011Z
END:VEVENT
END:VCALENDAR