BEGIN:VCALENDAR
VERSION:2.0
BEGIN:VEVENT
SUMMARY:Reach out to Connecticut Main Street Center about Main Street Accelerator
DESCRIPTION:Reach out to them for information about their program.\n\nDescription: Six-month professional development and team-building initiative providing Connecticut communities with expert guidance, coaching, and resources to implement impactful downtown projects, plus eligibility for grant funding upon program completion.\n\n- Phone: (860) 280-2074\n- Email: kristen@ctmainstreet.org\n- Source: https://founder-nav.com/programs/rec5Xk0qYnY98xiUX\n\n---\nBrought to you by Founder Nav, helping entrepreneurs navigate the entrepreneurial ecosystem.
DTSTART:20260425T100020Z
DTEND:20260425T103020Z
END:VEVENT
END:VCALENDAR