BEGIN:VCALENDAR
VERSION:2.0
BEGIN:VEVENT
SUMMARY:Reach out to SCORE Northwest Connecticut about Simple Steps for Starting Your Business (5-session series)
DESCRIPTION:Reach out to them for information about their program.\n\nDescription: Free 5-session workshop series covering startup basics, business concept, marketing plan, financial projections, and funding sources for aspiring entrepreneurs.\n\n- Phone: 1-800-634-0245\n- Source: https://founder-nav.com/programs/rec5XNb8SfZHywvCb\n\n---\nBrought to you by Founder Nav, helping entrepreneurs navigate the entrepreneurial ecosystem.
DTSTART:20260425T100048Z
DTEND:20260425T103048Z
END:VEVENT
END:VCALENDAR