BEGIN:VCALENDAR
VERSION:2.0
BEGIN:VEVENT
SUMMARY:Reach out to Frederick County Office of Economic Development about EmPOWER Mentorship Program
DESCRIPTION:Reach out to them for information about their program.\n\nDescription: A 6-week in-person program (1.5 hours per week) led by the Maryland SBDC, focused on comprehensive business plan development. Accepts up to 10 participants who are 51%+ underrepresented business owners. Graduates may access the EmPOWER Loan Program for up to $10K in capital through LEDC CDFI and Maryland's DHCD.\n\n- Phone: (301) 600-1058\n- Email: info@frederickcountymd.gov\n- Source: https://founder-nav.com/programs/rec5WfCEIqTFSWH88\n\n---\nBrought to you by Founder Nav, helping entrepreneurs navigate the entrepreneurial ecosystem.
DTSTART:20260425T100023Z
DTEND:20260425T103023Z
END:VEVENT
END:VCALENDAR