BEGIN:VCALENDAR
VERSION:2.0
BEGIN:VEVENT
SUMMARY:Reach out to ZIP Launchpad (SDSU – Zahn Innovation Platform) about ZIP Launchpad Incubator
DESCRIPTION:Reach out to them for information about their program.\n\nDescription: Free on-campus incubator for SDSU students, staff, and faculty from all majors. 2-year program with semester-based applications. Provides working capital grants (up to $5,000), access to the H.G. Fenton Idea Lab (3D printers, laser cutting, power tools), and mentorship from 40+ active startups. Award-winning USASBE Model University Accelerator/Incubator (2023). 35+ companies launched, $40M+ raised collectively.\n\n- Phone: (619) 594-0828\n- Email: cpucher@sdsu.edu\n- Source: https://founder-nav.com/programs/rec5RAmkBzUqspLUp\n\n---\nBrought to you by Founder Nav, helping entrepreneurs navigate the entrepreneurial ecosystem.
DTSTART:20260425T100047Z
DTEND:20260425T103047Z
END:VEVENT
END:VCALENDAR