BEGIN:VCALENDAR
VERSION:2.0
BEGIN:VEVENT
SUMMARY:Reach out to The Roux Institute at Northeastern University about ClimateTech Incubator
DESCRIPTION:Reach out to them for information about their program.\n\nDescription: A regionally focused incubator for climate and clean energy startups, launched September 2024 with $975K from Maine's Governor's Energy Office. Provides desk space, a prototyping lab, curated mentors, and access to Roux's AI, ML, and materials science expertise.\n\n- Source: https://founder-nav.com/programs/rec5P0iowfMa2d4Pg\n\n---\nBrought to you by Founder Nav, helping entrepreneurs navigate the entrepreneurial ecosystem.
DTSTART:20260425T100001Z
DTEND:20260425T103001Z
END:VEVENT
END:VCALENDAR