BEGIN:VCALENDAR
VERSION:2.0
BEGIN:VEVENT
SUMMARY:Reach out to Butte College SBDC about SBDC Business Advising & Mentoring
DESCRIPTION:Reach out to them for information about their program.\n\nDescription: Provides confidential, no-cost business advising, training, and resources to help entrepreneurs and small businesses start, grow, or transition, offering expertise in areas like funding, marketing, compliance, and expansion in Northern California.\n\n- Phone: (530) 895-9017\n- Source: https://founder-nav.com/programs/rec5Nh1wEaVGUMHX0\n\n---\nBrought to you by Founder Nav, helping entrepreneurs navigate the entrepreneurial ecosystem.
DTSTART:20260425T100015Z
DTEND:20260425T103015Z
END:VEVENT
END:VCALENDAR