BEGIN:VCALENDAR
VERSION:2.0
BEGIN:VEVENT
SUMMARY:Reach out to Startup UCLA about Startup UCLA Summer Accelerator
DESCRIPTION:Reach out to them for information about their program.\n\nDescription: 10-week summer accelerator for UCLA students and recent alumni, providing $5K stipends, workspace, mentorship, and a Silicon Valley trip with no equity taken.\n\n- Email: startupucla@college.ucla.edu\n- Source: https://founder-nav.com/programs/rec5MsEMafFkdZ3wo\n\n---\nBrought to you by Founder Nav, helping entrepreneurs navigate the entrepreneurial ecosystem.
DTSTART:20260425T100042Z
DTEND:20260425T103042Z
END:VEVENT
END:VCALENDAR