BEGIN:VCALENDAR
VERSION:2.0
BEGIN:VEVENT
SUMMARY:Reach out to Cedars-Sinai Accelerator about Cedars-Sinai Accelerator
DESCRIPTION:Reach out to them for information about their program.\n\nDescription: 3-month health-tech accelerator providing funding, mentorship, and clinical access to early-stage digital health startups at Cedars-Sinai Medical Center.\n\n- Email: programs@csaccelerator.com\n- Source: https://founder-nav.com/programs/rec5821k2lgpXLIi8\n\n---\nBrought to you by Founder Nav, helping entrepreneurs navigate the entrepreneurial ecosystem.
DTSTART:20260425T100040Z
DTEND:20260425T103040Z
END:VEVENT
END:VCALENDAR