BEGIN:VCALENDAR
VERSION:2.0
BEGIN:VEVENT
SUMMARY:Reach out to JJLake Business Center about Prospect Program
DESCRIPTION:Reach out to them for information about their program.\n\nDescription: Connects experienced professionals with advanced degrees to top career opportunities in Asia through an expert network, leveraging strong domain knowledge and a global talent pool.\n\n- Email: info@jjlaker.com\n- Source: https://founder-nav.com/programs/rec580gBxItBmVqHL\n\n---\nBrought to you by Founder Nav, helping entrepreneurs navigate the entrepreneurial ecosystem.
DTSTART:20260425T100018Z
DTEND:20260425T103018Z
END:VEVENT
END:VCALENDAR