BEGIN:VCALENDAR
VERSION:2.0
BEGIN:VEVENT
SUMMARY:Reach out to Center for Industrial Research and Service (CIRAS) about B2B Networking & Best Practice Sharing
DESCRIPTION:Reach out to them for information about their program.\n\nDescription: Facilitated networking and peer learning events connecting Iowa manufacturers and businesses to share operational best practices and build supply chain relationships.\n\n- Email: ciras@iastate.edu\n- Source: https://founder-nav.com/programs/rec4tM5pTgZv2pXtO\n\n---\nBrought to you by Founder Nav, helping entrepreneurs navigate the entrepreneurial ecosystem.
DTSTART:20260425T100014Z
DTEND:20260425T103014Z
END:VEVENT
END:VCALENDAR