BEGIN:VCALENDAR
VERSION:2.0
BEGIN:VEVENT
SUMMARY:Reach out to CEI – Ellsworth  about Downeast Business Boot Camp & Pitch-Off
DESCRIPTION:Reach out to them for information about their program.\n\nDescription: A 6-day intensive training and mentorship program for early-stage Downeast entrepreneurs (1–3 years in operation), culminating in a judged pitch competition for prize money.\n\n- Source: https://founder-nav.com/programs/rec4t3WLlxVhQWyC5\n\n---\nBrought to you by Founder Nav, helping entrepreneurs navigate the entrepreneurial ecosystem.
DTSTART:20260425T100028Z
DTEND:20260425T103028Z
END:VEVENT
END:VCALENDAR