BEGIN:VCALENDAR
VERSION:2.0
BEGIN:VEVENT
SUMMARY:Reach out to The Frederick Innovative Technology Center about The Edge Accelerator
DESCRIPTION:Reach out to them for information about their program.\n\nDescription: A 12-week intensive accelerator for technology and life science companies located at The EDGE at 321, Frederick. Sponsored by TEDCO and the Frederick National Laboratory. 15 companies graduated in March 2024. Part of the BioHealth Capital Region ecosystem, providing access to federal labs, investor networks, and commercialization support.\n\n- Source: https://founder-nav.com/programs/rec4rDPSjcpAOlkZb\n\n---\nBrought to you by Founder Nav, helping entrepreneurs navigate the entrepreneurial ecosystem.
DTSTART:20260425T100029Z
DTEND:20260425T103029Z
END:VEVENT
END:VCALENDAR