BEGIN:VCALENDAR
VERSION:2.0
BEGIN:VEVENT
SUMMARY:Reach out to Unlimited Future about Planning for Profit 2.0
DESCRIPTION:Reach out to them for information about their program.\n\nDescription: 6 weeks course that takes a deep dive into all things financial. You will build on what you learned in Business Basics and work through the various financial and budgeting tools you will need to not only launch your business but also prepare the financial documents you will need to succeed.\n\n- Email: uward@unlimitedfuture.org\n- Source: https://founder-nav.com/programs/rec4o2oC5EJ3LAteM\n\n---\nBrought to you by Founder Nav, helping entrepreneurs navigate the entrepreneurial ecosystem.
DTSTART:20260425T100011Z
DTEND:20260425T103011Z
END:VEVENT
END:VCALENDAR