BEGIN:VCALENDAR
VERSION:2.0
BEGIN:VEVENT
SUMMARY:Reach out to Mana Up about Mana Up Accelerator
DESCRIPTION:Reach out to them for information about their program.\n\nDescription: Six-month accelerator program for established Hawaii product companies in food, fashion, beauty, and home goods. Provides business coaching, retail strategy, marketing support, and connections to major retail partners. Has supported 105+ companies generating $84M+ in revenue.\n\n- Phone: (808) 829-8003\n- Email: aloha@manauphawaii.com\n- Source: https://founder-nav.com/programs/rec4gVWezIY25uome\n\n---\nBrought to you by Founder Nav, helping entrepreneurs navigate the entrepreneurial ecosystem.
DTSTART:20260425T100027Z
DTEND:20260425T103027Z
END:VEVENT
END:VCALENDAR