BEGIN:VCALENDAR
VERSION:2.0
BEGIN:VEVENT
SUMMARY:Reach out to The Founder Institute about Founder Institute
DESCRIPTION:Reach out to them for information about their program.\n\nDescription: Global 4-month part-time pre-seed accelerator with chapters in 200+ cities, helping early-stage founders validate ideas and launch tech companies with no equity taken.\n\n- Email: support@fi.co\n- Source: https://founder-nav.com/programs/rec4X2E8HOORFomza\n\n---\nBrought to you by Founder Nav, helping entrepreneurs navigate the entrepreneurial ecosystem.
DTSTART:20260425T100018Z
DTEND:20260425T103018Z
END:VEVENT
END:VCALENDAR