BEGIN:VCALENDAR
VERSION:2.0
BEGIN:VEVENT
SUMMARY:Reach out to Goodie Nation about Next Generation Program
DESCRIPTION:Reach out to them for information about their program.\n\nDescription: Post-accelerator that supports pre-seed startups in advancing toward their seed round by building social capital, fostering leadership, and ensuring accountability over a 12-month period. \nThe program guides founders in achieving critical business milestones and enhancing investor appeal, enabling them to secure pre-seed or seed funding and progress to the next level of support within Goodie Nation’s Seed Stage Program.\n\n- Source: https://founder-nav.com/programs/rec4VlcDvXUtSSB1J\n\n---\nBrought to you by Founder Nav, helping entrepreneurs navigate the entrepreneurial ecosystem.
DTSTART:20260425T100037Z
DTEND:20260425T103037Z
END:VEVENT
END:VCALENDAR