BEGIN:VCALENDAR
VERSION:2.0
BEGIN:VEVENT
SUMMARY:Reach out to University of Iowa Office of Innovation about Nurse Innovators Program
DESCRIPTION:Reach out to them for information about their program.\n\nDescription: Statewide program empowering Iowa nurses to develop entrepreneurial solutions to healthcare challenges through innovation training, mentorship, and a pitch competition.\n\n- Email: uiventures@uiowa.edu\n- Source: https://founder-nav.com/programs/rec4SOUR93E5jE3Wh\n\n---\nBrought to you by Founder Nav, helping entrepreneurs navigate the entrepreneurial ecosystem.
DTSTART:20260425T100022Z
DTEND:20260425T103022Z
END:VEVENT
END:VCALENDAR