BEGIN:VCALENDAR
VERSION:2.0
BEGIN:VEVENT
SUMMARY:Reach out to Driggs Industrial Business Incubator about Driggs Industrial Business Incubator
DESCRIPTION:Reach out to them for information about their program.\n\nDescription: A city-managed industrial incubator in Driggs, Idaho offering affordable office, warehouse, and kitchen suites to qualifying startups and expanding businesses in Teton County.\n\n- Phone: (208) 354-2362 ext. 2111\n- Email: DSelf@DriggsIdaho.org\n- Source: https://founder-nav.com/programs/rec4RQkbonbv2VF86\n\n---\nBrought to you by Founder Nav, helping entrepreneurs navigate the entrepreneurial ecosystem.
DTSTART:20260425T100023Z
DTEND:20260425T103023Z
END:VEVENT
END:VCALENDAR