BEGIN:VCALENDAR
VERSION:2.0
BEGIN:VEVENT
SUMMARY:Reach out to YWCA Oʻahu about MBDA Enterprising Women of Color (EWOC) Business Center
DESCRIPTION:Reach out to them for information about their program.\n\nDescription: U.S. Department of Commerce MBDA Enterprising Women of Color (EWOC) Business Center hosted at YWCA O'ahu — one of only five such centers in the nation. Provides training, counseling, resources, and contract/funding access for minority women entrepreneurs seeking to grow medium-sized businesses.\n\n- Phone: (808) 695-2633\n- Email: ewoc@ywcaoahu.org\n- Source: https://founder-nav.com/programs/rec4JynME8fAnpRpI\n\n---\nBrought to you by Founder Nav, helping entrepreneurs navigate the entrepreneurial ecosystem.
DTSTART:20260425T100045Z
DTEND:20260425T103045Z
END:VEVENT
END:VCALENDAR