BEGIN:VCALENDAR
VERSION:2.0
BEGIN:VEVENT
SUMMARY:Reach out to Montgomery County Chamber of Commerce about GovConNet Council Training & Forums
DESCRIPTION:Reach out to them for information about their program.\n\nDescription: A government contracting education and networking program operated by the Montgomery County Chamber of Commerce that equips small businesses with the knowledge, skills, and connections to win federal and state government contracts. Includes forum series, training programs, procurement conferences, and access to agency officials and prime contractors.\n\n- Source: https://founder-nav.com/programs/rec4AG2kzfLxTP8ne\n\n---\nBrought to you by Founder Nav, helping entrepreneurs navigate the entrepreneurial ecosystem.
DTSTART:20260425T100053Z
DTEND:20260425T103053Z
END:VEVENT
END:VCALENDAR