BEGIN:VCALENDAR
VERSION:2.0
BEGIN:VEVENT
SUMMARY:Reach out to Office of Innovation & Commercialization (UH) about PIE-X (Lean Startup Course)
DESCRIPTION:Reach out to them for information about their program.\n\nDescription: Lean Startup methodology course offered by UH Office of Innovation & Commercialization. Teaches students, researchers, and early-stage entrepreneurs how to validate business ideas, build minimum viable products, and iterate based on customer feedback.\n\n- Phone: (808) 956-9024\n- Email: oic@hawaii.edu\n- Source: https://founder-nav.com/programs/rec4A6qppK3cPKnog\n\n---\nBrought to you by Founder Nav, helping entrepreneurs navigate the entrepreneurial ecosystem.
DTSTART:20260425T100005Z
DTEND:20260425T103005Z
END:VEVENT
END:VCALENDAR