BEGIN:VCALENDAR
VERSION:2.0
BEGIN:VEVENT
SUMMARY:Reach out to Patsy T. Mink Center for Business & Leadership about Wahine Rising
DESCRIPTION:Reach out to them for information about their program.\n\nDescription: Entry-level leadership program for emerging women leaders and beginning entrepreneurs at YWCA Oahu. Provides foundational business skills, confidence-building, and introduction to the YWCA entrepreneurship ecosystem. Designed as a stepping stone to more advanced programs.\n\n- Phone: (808) 695-2633\n- Email: mcbl@ywcaoahu.org\n- Source: https://founder-nav.com/programs/rec45ZatjvLoMvF5R\n\n---\nBrought to you by Founder Nav, helping entrepreneurs navigate the entrepreneurial ecosystem.
DTSTART:20260425T100018Z
DTEND:20260425T103018Z
END:VEVENT
END:VCALENDAR