BEGIN:VCALENDAR
VERSION:2.0
BEGIN:VEVENT
SUMMARY:Reach out to UC San Diego Entrepreneurship Center about Entrepreneurs-in-Residence (EIR) Program
DESCRIPTION:Reach out to them for information about their program.\n\nDescription: Provides expert guidance to UC San Diego innovators on early-stage technologies, commercialization strategies, and startup creation, helping define market cases, build business models, advise on fundraising, and solve common challenges through hands-on mentorship and entrepreneurial experience.\n\n- Phone: (858) 534-2230\n- Email: ykoblick@ucsd.edu\n- Source: https://founder-nav.com/programs/rec436MGGtmqEMJWw\n\n---\nBrought to you by Founder Nav, helping entrepreneurs navigate the entrepreneurial ecosystem.
DTSTART:20260425T100054Z
DTEND:20260425T103054Z
END:VEVENT
END:VCALENDAR