BEGIN:VCALENDAR
VERSION:2.0
BEGIN:VEVENT
SUMMARY:Reach out to Prospera about Acompana (Advanced Incubation Program)
DESCRIPTION:Reach out to them for information about their program.\n\nDescription: Offers courses, workshops, and individualized support to Latina entrepreneurs, focusing on cooperative business development, financial literacy, leadership, and technology, while fostering community, providing technical assistance, and creating opportunities for networking and business growth.\n\n- Phone: (510) 695-2270\n- Email: info@prosperacoops.org\n- Source: https://founder-nav.com/programs/rec3yVLyMpaerkC4H\n\n---\nBrought to you by Founder Nav, helping entrepreneurs navigate the entrepreneurial ecosystem.
DTSTART:20260425T100057Z
DTEND:20260425T103057Z
END:VEVENT
END:VCALENDAR