BEGIN:VCALENDAR
VERSION:2.0
BEGIN:VEVENT
SUMMARY:Reach out to Kansas SBDC about Capital Access Center (CAC)
DESCRIPTION:Reach out to them for information about their program.\n\nDescription: One of only three Capital Access Centers in the U.S., permanently housed at JCCC's SBDC, providing free expert loan guidance by bankers working for the client. Has helped 51+ companies access $39M+ in capital infusion through financial trainings and direct lender connections.\n\n- Phone: (913) 469-3878\n- Email: jjohn512@jccc.edu\n- Source: https://founder-nav.com/programs/rec3xBxbthDRaWXBv\n\n---\nBrought to you by Founder Nav, helping entrepreneurs navigate the entrepreneurial ecosystem.
DTSTART:20260425T100018Z
DTEND:20260425T103018Z
END:VEVENT
END:VCALENDAR