BEGIN:VCALENDAR
VERSION:2.0
BEGIN:VEVENT
SUMMARY:Reach out to Illumina for Startups about Illumina for Startups
DESCRIPTION:Reach out to them for information about their program.\n\nDescription: Seed-stage funding and support program for genomics-focused startups. Offers access to Illumina sequencing systems and reagents, lab space, and business guidance. Evolved into Illumina Ventures Labs (2023) with a focus on company creation. Illumina for Startups Grants also available for proof-of-concept sequencing experiments. 74 companies invested 2014–2023, with portfolio raising $1.2B+ collectively.\n\n- Phone: 1-800-809-4566\n- Email: startups@illumina.com\n- Source: https://founder-nav.com/programs/rec3tWNY7rsNlTv7d\n\n---\nBrought to you by Founder Nav, helping entrepreneurs navigate the entrepreneurial ecosystem.
DTSTART:20260425T100018Z
DTEND:20260425T103018Z
END:VEVENT
END:VCALENDAR