BEGIN:VCALENDAR
VERSION:2.0
BEGIN:VEVENT
SUMMARY:Reach out to Innovation Works Baltimore about Innovation Works Boost Program (4-Day Enterprise Development Workshop)
DESCRIPTION:Reach out to them for information about their program.\n\nDescription: A 4-day intensive enterprise development workshop for established nonprofit, for-profit, and hybrid social enterprise leaders in Baltimore. Teaches business fundamentals, strategic thinking, and business planning for impact and financial sustainability. Participants leave with complete templates, action plans, and an executive summary, with the opportunity to apply for the IW Accelerator and Ignite Capital funding.\n\n- Source: https://founder-nav.com/programs/rec3mV80osb26Ld3X\n\n---\nBrought to you by Founder Nav, helping entrepreneurs navigate the entrepreneurial ecosystem.
DTSTART:20260425T100036Z
DTEND:20260425T103036Z
END:VEVENT
END:VCALENDAR