BEGIN:VCALENDAR
VERSION:2.0
BEGIN:VEVENT
SUMMARY:Reach out to APEX Accelerator Sussex County about Government Contracting Training & Counseling
DESCRIPTION:Reach out to them for information about their program.\n\nDescription: Delaware APEX Accelerator's Sussex County satellite (Georgetown SBDC, 103 W. Pine Street) provides no-cost government contracting training and counseling for businesses in southern Delaware. Services include registration and certification guidance, bid preparation, contract specifications, and access to federal, state, and local procurement opportunities.\n\n- Phone: (302) 831-0781\n- Source: https://founder-nav.com/programs/rec3gL5CcVBeuupJB\n\n---\nBrought to you by Founder Nav, helping entrepreneurs navigate the entrepreneurial ecosystem.
DTSTART:20260425T100000Z
DTEND:20260425T103000Z
END:VEVENT
END:VCALENDAR