BEGIN:VCALENDAR
VERSION:2.0
BEGIN:VEVENT
SUMMARY:Reach out to EO Hawaii (Entrepreneurs’ Organization – Hawaii Chapter) about EO Accelerator
DESCRIPTION:Reach out to them for information about their program.\n\nDescription: Two-year peer-to-peer business accelerator for entrepreneurs with $250K-$1M in annual revenue, offered through Entrepreneurs' Organization Hawaii. Provides four full-day quarterly learning events, accountability groups, and EO member coaching to help businesses cross the $1M revenue threshold.\n\n- Email: info@eohawaii.org\n- Source: https://founder-nav.com/programs/rec3f2Ype1EX2OYUk\n\n---\nBrought to you by Founder Nav, helping entrepreneurs navigate the entrepreneurial ecosystem.
DTSTART:20260425T100000Z
DTEND:20260425T103000Z
END:VEVENT
END:VCALENDAR