BEGIN:VCALENDAR
VERSION:2.0
BEGIN:VEVENT
SUMMARY:Reach out to StartUP Columbus about The StartUP Columbus Incubator Program
DESCRIPTION:Reach out to them for information about their program.\n\nDescription: Created to help startup businesses in the Chattahoochee Valley Region. Participating in the program provides entrepreneurs with workspace, mentorship, programming, and networking opportunities in one location. \n\n- Phone: (706) 521-6122\n- Email: info@startupcolga.com\n- Source: https://founder-nav.com/programs/rec3dKZW46TLacsxf\n\n---\nBrought to you by Founder Nav, helping entrepreneurs navigate the entrepreneurial ecosystem.
DTSTART:20260425T100058Z
DTEND:20260425T103058Z
END:VEVENT
END:VCALENDAR