BEGIN:VCALENDAR
VERSION:2.0
BEGIN:VEVENT
SUMMARY:Reach out to CIRAS APEX Accelerator (Iowa State University) about Government Contracting Workshops & Training Events
DESCRIPTION:Reach out to them for information about their program.\n\nDescription: Educational workshops and training events for Iowa businesses on government contracting fundamentals, bid preparation, certification programs, and navigating federal procurement processes.\n\n- Phone: (515) 294-3420\n- Email: ciras@iastate.edu\n- Source: https://founder-nav.com/programs/rec3b1xVInTfHrhDt\n\n---\nBrought to you by Founder Nav, helping entrepreneurs navigate the entrepreneurial ecosystem.
DTSTART:20260425T100045Z
DTEND:20260425T103045Z
END:VEVENT
END:VCALENDAR