BEGIN:VCALENDAR
VERSION:2.0
BEGIN:VEVENT
SUMMARY:Reach out to Huntington Chamber of Commerce about Manufacturing Roundtable Council
DESCRIPTION:Reach out to them for information about their program.\n\nDescription: Consists of representatives from local manufacturing businesses, industry experts, government officials, and other stakeholders with a vested interest in the manufacturing sector. The council members come together to address common challenges, share best practices, and promote the interests of the manufacturing community as a whole.\n\n- Phone: (304) 525-5131\n- Email: chamber@huntingtonchamber.org\n- Source: https://founder-nav.com/programs/rec3aDSV4snfL7LGt\n\n---\nBrought to you by Founder Nav, helping entrepreneurs navigate the entrepreneurial ecosystem.
DTSTART:20260425T100050Z
DTEND:20260425T103050Z
END:VEVENT
END:VCALENDAR