BEGIN:VCALENDAR
VERSION:2.0
BEGIN:VEVENT
SUMMARY:Reach out to Arizona Small Business Association about Arizona Small Business Association (ASBA) Programs
DESCRIPTION:Reach out to them for information about their program.\n\nDescription: A membership organization providing Arizona small business owners with education, advocacy, resources, and networking to help them start, grow, and succeed in business.\n\n- Source: https://founder-nav.com/programs/rec3aCCQ0Ef4YZoXq\n\n---\nBrought to you by Founder Nav, helping entrepreneurs navigate the entrepreneurial ecosystem.
DTSTART:20260425T100013Z
DTEND:20260425T103013Z
END:VEVENT
END:VCALENDAR