BEGIN:VCALENDAR
VERSION:2.0
BEGIN:VEVENT
SUMMARY:Reach out to Enterprise Center in Johnson County (ECJC) about Equipped for Equity
DESCRIPTION:Reach out to them for information about their program.\n\nDescription: 5-week cohort program (6–8 entrepreneurs) helping businesses build capital-readiness strategy and prepare to attract the right investors at the right time.\n\n- Source: https://founder-nav.com/programs/rec3YXN7pmYLRJiAr\n\n---\nBrought to you by Founder Nav, helping entrepreneurs navigate the entrepreneurial ecosystem.
DTSTART:20260425T100054Z
DTEND:20260425T103054Z
END:VEVENT
END:VCALENDAR