BEGIN:VCALENDAR
VERSION:2.0
BEGIN:VEVENT
SUMMARY:Reach out to Yoo & Company Accelerators about Yoo & Company Accelerator Programs
DESCRIPTION:Reach out to them for information about their program.\n\nDescription: A business accelerator offering structured programs, coaching, and resources for entrepreneurs and small businesses looking to accelerate their growth and achieve business milestones.\n\n- Source: https://founder-nav.com/programs/rec3VFODVrzKYd5Q6\n\n---\nBrought to you by Founder Nav, helping entrepreneurs navigate the entrepreneurial ecosystem.
DTSTART:20260425T100028Z
DTEND:20260425T103028Z
END:VEVENT
END:VCALENDAR